BEGIN:VCALENDAR
VERSION:2.0
PRODID:-//Columbia International University - ECPv6.15.20//NONSGML v1.0//EN
CALSCALE:GREGORIAN
METHOD:PUBLISH
X-ORIGINAL-URL:https://ciu.edu
X-WR-CALDESC:Events for Columbia International University
REFRESH-INTERVAL;VALUE=DURATION:PT1H
X-Robots-Tag:noindex
X-PUBLISHED-TTL:PT1H
BEGIN:VTIMEZONE
TZID:America/New_York
BEGIN:DAYLIGHT
TZOFFSETFROM:-0500
TZOFFSETTO:-0400
TZNAME:EDT
DTSTART:20240310T070000
END:DAYLIGHT
BEGIN:STANDARD
TZOFFSETFROM:-0400
TZOFFSETTO:-0500
TZNAME:EST
DTSTART:20241103T060000
END:STANDARD
BEGIN:DAYLIGHT
TZOFFSETFROM:-0500
TZOFFSETTO:-0400
TZNAME:EDT
DTSTART:20250309T070000
END:DAYLIGHT
BEGIN:STANDARD
TZOFFSETFROM:-0400
TZOFFSETTO:-0500
TZNAME:EST
DTSTART:20251102T060000
END:STANDARD
BEGIN:DAYLIGHT
TZOFFSETFROM:-0500
TZOFFSETTO:-0400
TZNAME:EDT
DTSTART:20260308T070000
END:DAYLIGHT
BEGIN:STANDARD
TZOFFSETFROM:-0400
TZOFFSETTO:-0500
TZNAME:EST
DTSTART:20261101T060000
END:STANDARD
BEGIN:DAYLIGHT
TZOFFSETFROM:-0500
TZOFFSETTO:-0400
TZNAME:EDT
DTSTART:20270314T070000
END:DAYLIGHT
BEGIN:STANDARD
TZOFFSETFROM:-0400
TZOFFSETTO:-0500
TZNAME:EST
DTSTART:20271107T060000
END:STANDARD
END:VTIMEZONE
BEGIN:VEVENT
DTSTART;TZID=America/New_York:20260414T183000
DTEND;TZID=America/New_York:20260414T193000
DTSTAMP:20260419T161228
CREATED:20260312T163047Z
LAST-MODIFIED:20260312T163047Z
UID:10000864-1776191400-1776195000@ciu.edu
SUMMARY:Career Readiness Session: Negotiating a Job Offer
DESCRIPTION:Gain practical strategies for confidently negotiating salary\, benefits\, and job terms so you can start your career on the right footing. \nSpeaker: Evan Duren \nLocation: CIU Dining Hall (Meeting Room) \nQuestions? Contact BCDC@ciu.edu \n 
URL:https://ciu.edu/event/career-readiness-session-negotiating-a-job-offer/
LOCATION:Dining Hall
CATEGORIES:Student Events
ORGANIZER;CN="Business & Career Development Center":MAILTO:bcdc@ciu.edu
END:VEVENT
BEGIN:VEVENT
DTSTART;TZID=America/New_York:20260411T100000
DTEND;TZID=America/New_York:20260411T120000
DTSTAMP:20260419T161228
CREATED:20260312T165225Z
LAST-MODIFIED:20260312T165952Z
UID:10000866-1775901600-1775908800@ciu.edu
SUMMARY:Entrepreneurship 101 Student Business Showcase
DESCRIPTION:Join the CIU community to hear Entrepreneurship 101 students present innovative business ideas and projects developed throughout the semester. \nLocation: William H. Jones Center\, Room 140 \nQuestions? Contact BCDC@ciu.edu
URL:https://ciu.edu/event/entrepreneurship-101-student-business-showcase/
LOCATION:William H. Jones Center
CATEGORIES:Campus Events,Student Events
ORGANIZER;CN="Business & Career Development Center":MAILTO:bcdc@ciu.edu
END:VEVENT
BEGIN:VEVENT
DTSTART;TZID=America/New_York:20260407T120000
DTEND;TZID=America/New_York:20260407T130000
DTSTAMP:20260419T161228
CREATED:20260312T165910Z
LAST-MODIFIED:20260312T172612Z
UID:10000867-1775563200-1775566800@ciu.edu
SUMMARY:Professional Headshots for Students
DESCRIPTION:CIU students are invited to stop by for a professional headshot to use on LinkedIn\, resumes\, and other career profiles. \nLocation: Ridderhof Building\, Lobby outside of Hoke Auditorium \nQuestions? Contact BCDC@ciu.edu
URL:https://ciu.edu/event/professional-headshots-for-students/2026-04-07/
LOCATION:Ridderhof\, SC
CATEGORIES:Student Events
ORGANIZER;CN="Business & Career Development Center":MAILTO:bcdc@ciu.edu
END:VEVENT
BEGIN:VEVENT
DTSTART;TZID=America/New_York:20260330T183000
DTEND;TZID=America/New_York:20260330T193000
DTSTAMP:20260419T161228
CREATED:20260312T162745Z
LAST-MODIFIED:20260312T162745Z
UID:10000863-1774895400-1774899000@ciu.edu
SUMMARY:Career Readiness Session: Resume & Cover Letter
DESCRIPTION:Strengthen your job applications by learning how to craft a compelling resume and cover letter that clearly communicate your skills and experience. \nSpeaker: Amy DuBois \nLocation: CIU Dining Hall (Meeting Room) \nQuestions? Contact BCDC@ciu.edu \n 
URL:https://ciu.edu/event/career-readiness-session-resume-cover-letter/
LOCATION:Dining Hall
CATEGORIES:Student Events
ORGANIZER;CN="Business & Career Development Center":MAILTO:bcdc@ciu.edu
END:VEVENT
BEGIN:VEVENT
DTSTART;TZID=America/New_York:20260317T183000
DTEND;TZID=America/New_York:20260317T193000
DTSTAMP:20260419T161228
CREATED:20260312T160427Z
LAST-MODIFIED:20260312T160427Z
UID:10000862-1773772200-1773775800@ciu.edu
SUMMARY:Career Readiness Session: LinkedIn Blogging
DESCRIPTION:Learn how to use LinkedIn blogging to showcase your expertise\, grow your professional network\, and stand out to potential employers. \nSpeaker: Juan Carlos Orosco \nLocation: CIU Dining Hall (Meeting Room) \nQuestions? Contact BCDC@ciu.edu \n 
URL:https://ciu.edu/event/career-readiness-session-linkedin-blogging/
LOCATION:Dining Hall
CATEGORIES:Student Events
ORGANIZER;CN="Business & Career Development Center":MAILTO:bcdc@ciu.edu
END:VEVENT
BEGIN:VEVENT
DTSTART;TZID=America/New_York:20251202T180000
DTEND;TZID=America/New_York:20251202T190000
DTSTAMP:20260419T161228
CREATED:20250911T022842Z
LAST-MODIFIED:20250911T022842Z
UID:10000594-1764698400-1764702000@ciu.edu
SUMMARY:Career Readiness Session: Business Etiquette
DESCRIPTION:Professionalism goes beyond skills—it’s about how you carry yourself. In this session\, you’ll learn: \n\nThe do’s and don’ts of professional etiquette\nWorkplace behavior that leaves a positive impression\nHow to communicate with respect and professionalism\nTips for dining\, dress code\, and office culture\n\n📍 Location: BCDC Hub (CIU Library\, 2nd Floor)\n📧 Questions? Contact BCDC bcdc@ciu.edu
URL:https://ciu.edu/event/career-readiness-session-business-etiquette/
LOCATION:G. Allen Fleece Library\, 7435 Monticello Rd\, Columbia\, SC\, 29203
CATEGORIES:Student Events
ORGANIZER;CN="Business & Career Development Center":MAILTO:bcdc@ciu.edu
END:VEVENT
BEGIN:VEVENT
DTSTART;TZID=America/New_York:20251118T180000
DTEND;TZID=America/New_York:20251118T190000
DTSTAMP:20260419T161228
CREATED:20250911T023204Z
LAST-MODIFIED:20250911T023204Z
UID:10000593-1763488800-1763492400@ciu.edu
SUMMARY:Career Readiness Session: Networking
DESCRIPTION:Networking is one of the most powerful tools for career growth. Join us to learn: \n\nHow to start and maintain professional connections\nEffective networking strategies in person and online\nHow to turn contacts into opportunities\nTips for confidence and professionalism in conversations\n\n📍 Location: BCDC Hub (CIU Library\, 2nd Floor)\n📧 Questions? Contact BCDC bcdc@ciu.edu
URL:https://ciu.edu/event/career-readiness-session-networking/
LOCATION:G. Allen Fleece Library\, 7435 Monticello Rd\, Columbia\, SC\, 29203
CATEGORIES:Student Events
ORGANIZER;CN="Business & Career Development Center":MAILTO:bcdc@ciu.edu
END:VEVENT
BEGIN:VEVENT
DTSTART;TZID=America/New_York:20251115T080000
DTEND;TZID=America/New_York:20251115T180000
DTSTAMP:20260419T161228
CREATED:20250911T181414Z
LAST-MODIFIED:20250911T181414Z
UID:10000638-1763193600-1763229600@ciu.edu
SUMMARY:Design Sprint in Partnership with GrowCo
DESCRIPTION:Transform your ideas into reality in just one weekend! Design sprints are intensive\, user-centered processes where teams collaborate to tackle real design challenges and bring innovative ideas to life. This immersive two-day experience will push your creative boundaries and give you practical skills you can use immediately. \nWhat You’ll Experience\nIn this hands-on sprint\, participants will: \n\nCollaborate in diverse teams to solve complex design problems using creative\, structured approaches\nMaster the professional design sprint methodology used by leading companies like Google\, Facebook\, and startups worldwide\nBuild and test a functional prototype from concept to working model in just 48 hours\nGain invaluable hands-on experience in innovation\, teamwork\, rapid prototyping\, and user-centered problem-solving\nNetwork with like-minded innovators and potentially find future collaborators or co-founders\n\nThis is a unique opportunity to dive deep into entrepreneurship\, design thinking\, and collaborative innovation—all while creating something tangible that you can showcase in your portfolio or continue developing beyond the weekend. \nEvent Schedule\nFriday\, Nov 14th Evening Kickoff\nTime: 5:00 PM – 8:00 PM \n\nTeam formation and introductions\nProblem definition and ideation\nInitial concept development\n\nSaturday\, Nov 15th Intensive Build Day\nTime: 8:00 AM – 6:00 PM \n\nPrototype development and refinement\nUser testing and feedback integration\nFinal presentations and demos\n\nImportant Details\n🎟️ Registration: No registration needed! Simply show up and dive in. \n🚗 Transportation: Participants are responsible for their own transportation to and from the event. \n📍 Location: Boyd Innovation Center \n🍕 What’s Provided: Light refreshments and snacks will be available throughout the weekend to keep your creative energy flowing. \n💼 What to Bring: Just yourself\, a laptop if you have one\, and an open mind ready for innovation! \nQuestions?\n📧 Contact the  Business & Career Development Center (BCDC) at bcdc@ciu.edu \nDon’t miss this chance to turn ideas into reality\, learn cutting-edge design methodologies\, and connect with fellow innovators in your community!
URL:https://ciu.edu/event/design-sprint-in-partnership-with-growco/2025-11-15/
CATEGORIES:Student Events
ORGANIZER;CN="Business & Career Development Center":MAILTO:bcdc@ciu.edu
END:VEVENT
BEGIN:VEVENT
DTSTART;TZID=America/New_York:20251114T170000
DTEND;TZID=America/New_York:20251114T200000
DTSTAMP:20260419T161228
CREATED:20250911T181414Z
LAST-MODIFIED:20250911T181414Z
UID:10000637-1763139600-1763150400@ciu.edu
SUMMARY:Design Sprint in Partnership with GrowCo
DESCRIPTION:Transform your ideas into reality in just one weekend! Design sprints are intensive\, user-centered processes where teams collaborate to tackle real design challenges and bring innovative ideas to life. This immersive two-day experience will push your creative boundaries and give you practical skills you can use immediately. \nWhat You’ll Experience\nIn this hands-on sprint\, participants will: \n\nCollaborate in diverse teams to solve complex design problems using creative\, structured approaches\nMaster the professional design sprint methodology used by leading companies like Google\, Facebook\, and startups worldwide\nBuild and test a functional prototype from concept to working model in just 48 hours\nGain invaluable hands-on experience in innovation\, teamwork\, rapid prototyping\, and user-centered problem-solving\nNetwork with like-minded innovators and potentially find future collaborators or co-founders\n\nThis is a unique opportunity to dive deep into entrepreneurship\, design thinking\, and collaborative innovation—all while creating something tangible that you can showcase in your portfolio or continue developing beyond the weekend. \nEvent Schedule\nFriday\, Nov 14th Evening Kickoff\nTime: 5:00 PM – 8:00 PM \n\nTeam formation and introductions\nProblem definition and ideation\nInitial concept development\n\nSaturday\, Nov 15th Intensive Build Day\nTime: 8:00 AM – 6:00 PM \n\nPrototype development and refinement\nUser testing and feedback integration\nFinal presentations and demos\n\nImportant Details\n🎟️ Registration: No registration needed! Simply show up and dive in. \n🚗 Transportation: Participants are responsible for their own transportation to and from the event. \n📍 Location: Boyd Innovation Center \n🍕 What’s Provided: Light refreshments and snacks will be available throughout the weekend to keep your creative energy flowing. \n💼 What to Bring: Just yourself\, a laptop if you have one\, and an open mind ready for innovation! \nQuestions?\n📧 Contact the  Business & Career Development Center (BCDC) at bcdc@ciu.edu \nDon’t miss this chance to turn ideas into reality\, learn cutting-edge design methodologies\, and connect with fellow innovators in your community!
URL:https://ciu.edu/event/design-sprint-in-partnership-with-growco/2025-11-14/
CATEGORIES:Student Events
ORGANIZER;CN="Business & Career Development Center":MAILTO:bcdc@ciu.edu
END:VEVENT
BEGIN:VEVENT
DTSTART;TZID=America/New_York:20251112T180000
DTEND;TZID=America/New_York:20251112T203000
DTSTAMP:20260419T161228
CREATED:20250911T023345Z
LAST-MODIFIED:20250911T023345Z
UID:10000631-1762970400-1762979400@ciu.edu
SUMMARY:Growing Beyond Sunday: For Students\, Dreamers\, & Doers
DESCRIPTION:Join us for an inspiring evening where faith meets life beyond the church walls. This special event brings together students\, young professionals\, and families from across the city for: \n\nPowerful worship that unites and uplifts\n10 brief testimonies of faith in action\nStories of purpose in everyday work\, school\, and calling\nCommunity connection with others pursuing growth in faith and life Whether you’re discovering your purpose\, chasing your dreams\, or actively making a difference\, this night is for you. ✨ No cost to attend — just bring your friends\, your questions\, and your heart ready to grow.\n\n📍 Location: Shortess Chapel\n📧 Questions? Contact BCDC bcdc@ciu.edu
URL:https://ciu.edu/event/fall-event-growing-beyond-sunday-nov-2025/
LOCATION:Shortess Chapel
CATEGORIES:Student Events
ORGANIZER;CN="Business & Career Development Center":MAILTO:bcdc@ciu.edu
END:VEVENT
BEGIN:VEVENT
DTSTART;TZID=America/New_York:20251108T100000
DTEND;TZID=America/New_York:20251108T120000
DTSTAMP:20260419T161228
CREATED:20250911T022905Z
LAST-MODIFIED:20250911T022905Z
UID:10000595-1762596000-1762603200@ciu.edu
SUMMARY:Entrepreneurship 101: Final Showcase
DESCRIPTION:Join us for the Entrepreneurship 101 Final Showcase\, where students will present their innovative business ideas developed throughout the semester. This event is a celebration of creativity\, hard work\, and entrepreneurial spirit. Attendees will: \n\nSee students pitch their projects and business concepts\nCelebrate innovation and entrepreneurial growth\nDiscover which teams win exciting prizes\nSupport peers pursuing their professional and business goals\n\n📍 Location: William H. Jones Center (CIU Business School)\n📧 Questions? Contact BCDC bcdc@ciu.edu
URL:https://ciu.edu/event/entrepreneurship-101-final-showcase/
LOCATION:William H. Jones Center
CATEGORIES:Student Events
ORGANIZER;CN="Business & Career Development Center":MAILTO:bcdc@ciu.edu
END:VEVENT
BEGIN:VEVENT
DTSTART;TZID=America/New_York:20251104T180000
DTEND;TZID=America/New_York:20251104T190000
DTSTAMP:20260419T161228
CREATED:20250911T023139Z
LAST-MODIFIED:20250911T023139Z
UID:10000592-1762279200-1762282800@ciu.edu
SUMMARY:Career Readiness Session: Generating Impact
DESCRIPTION:Discover how to bring value and make an impact in any workplace. This session will cover: \n\nIdentifying your unique strengths\nAdding value to your team and organization\nBuilding a reputation of excellence and leadership\nDeveloping habits that set you apart as a professional\n\n📍 Location: BCDC Hub (CIU Library\, 2nd Floor)\n📧 Questions? Contact BCDC bcdc@ciu.edu
URL:https://ciu.edu/event/career-readiness-session-generating-impact/
LOCATION:G. Allen Fleece Library\, 7435 Monticello Rd\, Columbia\, SC\, 29203
CATEGORIES:Student Events
ORGANIZER;CN="Business & Career Development Center":MAILTO:bcdc@ciu.edu
END:VEVENT
BEGIN:VEVENT
DTSTART;TZID=America/New_York:20251021T180000
DTEND;TZID=America/New_York:20251021T190000
DTSTAMP:20260419T161228
CREATED:20250911T023238Z
LAST-MODIFIED:20250911T023238Z
UID:10000591-1761069600-1761073200@ciu.edu
SUMMARY:Career Readiness Session: Navigating Interviews
DESCRIPTION:Master your interview skills and make a lasting impression. This interactive session will help you: \n\nPrepare for different interview formats\nAnswer common and difficult questions with confidence\nDemonstrate professionalism and enthusiasm\nFollow up effectively to stand out\n\n📍 Location: BCDC Hub (CIU Library\, 2nd Floor)\n📧 Questions?Contact BCDC bcdc@ciu.edu
URL:https://ciu.edu/event/career-readiness-session-navigating-interviews/
LOCATION:G. Allen Fleece Library\, 7435 Monticello Rd\, Columbia\, SC\, 29203
CATEGORIES:Student Events
ORGANIZER;CN="Business & Career Development Center":MAILTO:bcdc@ciu.edu
END:VEVENT
BEGIN:VEVENT
DTSTART;TZID=America/New_York:20251007T180000
DTEND;TZID=America/New_York:20251007T190000
DTSTAMP:20260419T161228
CREATED:20250911T023306Z
LAST-MODIFIED:20250911T023306Z
UID:10000589-1759860000-1759863600@ciu.edu
SUMMARY:Career Readiness Session: LinkedIn
DESCRIPTION:Build your professional brand with LinkedIn! In this workshop\, you’ll discover how to: \n\nCreate a strong\, professional profile\nExpand your network strategically\nUse LinkedIn to find opportunities and connect with employers\nShowcase your skills and achievements effectively\n\n📍 Location: BCDC Hub (CIU Library\, 2nd Floor)\n📧 Questions? Contact BCDC bcdc@ciu.edu
URL:https://ciu.edu/event/career-readiness-session-linkedin/
LOCATION:G. Allen Fleece Library\, 7435 Monticello Rd\, Columbia\, SC\, 29203
CATEGORIES:Student Events
ORGANIZER;CN="Business & Career Development Center":MAILTO:bcdc@ciu.edu
END:VEVENT
BEGIN:VEVENT
DTSTART;TZID=America/New_York:20251001T103000
DTEND;TZID=America/New_York:20251001T133000
DTSTAMP:20260419T161228
CREATED:20250925T182053Z
LAST-MODIFIED:20250925T182053Z
UID:10000672-1759314600-1759325400@ciu.edu
SUMMARY:Fall Job Fair
DESCRIPTION:💼 Looking for your next opportunity? Don’t miss the Fall Job Fair (located outside the Dining Hall)\, featuring over 25 employers from a wide range of industries. This is your chance to connect face-to-face with recruiters\, explore internships\, part-time jobs\, and full-time career opportunities\, and practice your networking skills. Résumés are encouraged. If you need assistance with your résumés or have questions\, visit the Business and Career Development Center in the William H. Jones Center or email bcdc@ciu.edu.
URL:https://ciu.edu/event/fall-job-fair/
LOCATION:Dining Hall
CATEGORIES:Student Events
ORGANIZER;CN="Business & Career Development Center":MAILTO:bcdc@ciu.edu
END:VEVENT
BEGIN:VEVENT
DTSTART;TZID=America/New_York:20250930T180000
DTEND;TZID=America/New_York:20250930T190000
DTSTAMP:20260419T161228
CREATED:20250911T023113Z
LAST-MODIFIED:20250915T210725Z
UID:10000583-1759255200-1759258800@ciu.edu
SUMMARY:CIU Career Readiness Resume Workshop
DESCRIPTION:Learn how to craft a polished resume and cover letter that stands out to employers. This session will cover: \n\nKey sections every resume should include\nTips for highlighting your strengths and experience\nCommon mistakes to avoid\nWriting cover letters that are professional and persuasive\n\n📍 Location: BCDC Hub (CIU Library\, 2nd Floor)\n📧 Questions? Contact BCDC bcdc@ciu.edu
URL:https://ciu.edu/event/ciu-career-readiness-resume-workshop/
LOCATION:G. Allen Fleece Library\, 7435 Monticello Rd\, Columbia\, SC\, 29203
CATEGORIES:Student Events
ORGANIZER;CN="Business & Career Development Center":MAILTO:bcdc@ciu.edu
END:VEVENT
BEGIN:VEVENT
DTSTART;TZID=America/New_York:20250916T180000
DTEND;TZID=America/New_York:20250916T190000
DTSTAMP:20260419T161228
CREATED:20250911T022807Z
LAST-MODIFIED:20250915T210654Z
UID:10000582-1758045600-1758049200@ciu.edu
SUMMARY:Career Readiness Session: Work Ethics
DESCRIPTION:Join us for a session focused on building a strong professional work ethic. Students will explore: \n\nThe importance of integrity and accountability\nProfessional responsibility in the workplace\nHow to cultivate discipline and reliability\nStrategies to become a trusted and dependable team member\n\n📍 Location: BCDC Hub (CIU Library\, 2nd Floor)\n📧 Questions? Contact BCDC bcdc@ciu.edu
URL:https://ciu.edu/event/career-readiness-session-work-ethics-2/
LOCATION:G. Allen Fleece Library\, 7435 Monticello Rd\, Columbia\, SC\, 29203
CATEGORIES:Student Events
ORGANIZER;CN="Business & Career Development Center":MAILTO:bcdc@ciu.edu
END:VEVENT
BEGIN:VEVENT
DTSTART;TZID=America/New_York:20250916T180000
DTEND;TZID=America/New_York:20250916T190000
DTSTAMP:20260419T161228
CREATED:20250905T222715Z
LAST-MODIFIED:20250915T210649Z
UID:10000303-1758045600-1758049200@ciu.edu
SUMMARY:Career Readiness Session: Work Ethics
DESCRIPTION:Join us for a session focused on building a strong professional work ethic. Students will explore: \n\nThe importance of integrity and accountability\nProfessional responsibility in the workplace\nHow to cultivate discipline and reliability\nStrategies to become a trusted and dependable team member\n\n  \n📍 Location: BCDC Hub (CIU Library\, 2nd Floor) \n📧 Questions? Contact BCDC bcdc@ciu.edu
URL:https://ciu.edu/event/career-readiness-session-work-ethics/
LOCATION:G. Allen Fleece Library\, 7435 Monticello Rd\, Columbia\, SC\, 29203
CATEGORIES:Student Events
ORGANIZER;CN="Business & Career Development Center":MAILTO:bcdc@ciu.edu
END:VEVENT
BEGIN:VEVENT
DTSTART;TZID=America/New_York:20250906T100000
DTEND;TZID=America/New_York:20250906T120000
DTSTAMP:20260419T161228
CREATED:20250905T224341Z
LAST-MODIFIED:20250905T224341Z
UID:10000304-1757152800-1757160000@ciu.edu
SUMMARY:Entrepreneurship 101: Starting Up
DESCRIPTION:CIU students are invited to kick off Entrepreneurship 101 with our Starting Up session. This workshop is the perfect place to begin shaping your business ideas and learning the fundamentals of entrepreneurship. \nParticipants will: \n\nExplore how to design and structure a business concept\nGain tools for creativity\, planning\, and execution\nConnect with like-minded students interested in innovation\nLearn about opportunities to compete for prizes throughout the program\n\n📍 Location: William H. Jones Center\, Room 141 \n📧 Questions? Contact BCDC bcdc@ciu.edu 
URL:https://ciu.edu/event/entrepreneurship-101-starting-up/
LOCATION:William H. Jones Center
CATEGORIES:Student Events
ORGANIZER;CN="Business & Career Development Center":MAILTO:bcdc@ciu.edu
END:VEVENT
BEGIN:VEVENT
DTSTART;TZID=America/New_York:20250906T100000
DTEND;TZID=America/New_York:20250906T120000
DTSTAMP:20260419T161228
CREATED:20250904T180531Z
LAST-MODIFIED:20250904T180531Z
UID:10000233-1757152800-1757160000@ciu.edu
SUMMARY:Entrepreneurship 101 Kickoff & Info Session
DESCRIPTION:Join us for the Entrepreneurship 101 Kickoff & Info Session this Saturday\, September 6\, from 10 AM – 12 PM at the William H. Jones Center.\nThis free 10-week program will help you:\n\n\nRefine your ideas and develop a business or ministry plan\n\n\nCreate a pitch to present to our panel of judges\n\n\nCompete for up to $3\,000 in seed money\n\n\nEarn a spot in our Spring Incubator to launch your idea 🚀\n\n\nWho can join?\nOpen to CIU students\, alumni\, and the Midlands community.\nThis Saturday’s session is your chance to learn more about the program\, meet other aspiring entrepreneurs\, and take the first step toward developing and funding your dreams.\nWe hope to see you there!\nEvent Details\n📅 Kickoff & Info Session: Saturday\, Sep 6 | 10 AM – 12 PM\n📍 Columbia International University\, William H. Jones Center
URL:https://ciu.edu/event/entrepreneurship-101-kickoff-info-session/
LOCATION:William H. Jones Center
CATEGORIES:Campus Events,Student Events
ORGANIZER;CN="Business & Career Development Center":MAILTO:bcdc@ciu.edu
END:VEVENT
BEGIN:VEVENT
DTSTART;TZID=America/New_York:20250902T180000
DTEND;TZID=America/New_York:20250902T190000
DTSTAMP:20260419T161228
CREATED:20250817T172408Z
LAST-MODIFIED:20250828T215450Z
UID:10000133-1756836000-1756839600@ciu.edu
SUMMARY:Career Readiness Session: Character Development & Soft Skills
DESCRIPTION:CIU students and recent graduates are invited to join the Business & Career Development Center for an interactive workshop designed to equip you with essential character and soft skills for the workplace. This session will help you:  \n\nStrengthen time management\, adaptability\, and organizational skills \n\n\nImprove your communication—written\, verbal\, and nonverbal \n\n\nDevelop emotional intelligence and self-awareness for workplace success \n\n\nGain tools for dispute resolution\, empathy\, and active listening \n\n\nBuild stronger interpersonal and teamwork skills in any job setting \n\n Prepare for a successful future by sharpening the soft skills that set you apart.  \n  \n📍 Location: BCDC Hub – CIU G. Allen Fleece Library (2nd floor) \n📧 Questions? Contact the Business & Career Development Center at bcdc@ciu.edu or (803) 807-5134. 
URL:https://ciu.edu/event/career-readiness-session-character-development-soft-skills/
LOCATION:G. Allen Fleece Library\, 7435 Monticello Rd\, Columbia\, SC\, 29203
CATEGORIES:Academic,Campus Events,Student Events
ORGANIZER;CN="Business & Career Development Center":MAILTO:bcdc@ciu.edu
END:VEVENT
END:VCALENDAR