BEGIN:VCALENDAR
VERSION:2.0
PRODID:-//Columbia International University - ECPv6.15.20//NONSGML v1.0//EN
CALSCALE:GREGORIAN
METHOD:PUBLISH
X-ORIGINAL-URL:https://ciu.edu
X-WR-CALDESC:Events for Columbia International University
REFRESH-INTERVAL;VALUE=DURATION:PT1H
X-Robots-Tag:noindex
X-PUBLISHED-TTL:PT1H
BEGIN:VTIMEZONE
TZID:America/New_York
BEGIN:DAYLIGHT
TZOFFSETFROM:-0500
TZOFFSETTO:-0400
TZNAME:EDT
DTSTART:20250309T070000
END:DAYLIGHT
BEGIN:STANDARD
TZOFFSETFROM:-0400
TZOFFSETTO:-0500
TZNAME:EST
DTSTART:20251102T060000
END:STANDARD
BEGIN:DAYLIGHT
TZOFFSETFROM:-0500
TZOFFSETTO:-0400
TZNAME:EDT
DTSTART:20260308T070000
END:DAYLIGHT
BEGIN:STANDARD
TZOFFSETFROM:-0400
TZOFFSETTO:-0500
TZNAME:EST
DTSTART:20261101T060000
END:STANDARD
BEGIN:DAYLIGHT
TZOFFSETFROM:-0500
TZOFFSETTO:-0400
TZNAME:EDT
DTSTART:20270314T070000
END:DAYLIGHT
BEGIN:STANDARD
TZOFFSETFROM:-0400
TZOFFSETTO:-0500
TZNAME:EST
DTSTART:20271107T060000
END:STANDARD
END:VTIMEZONE
BEGIN:VEVENT
DTSTART;TZID=America/New_York:20260130T190000
DTEND;TZID=America/New_York:20260130T210000
DTSTAMP:20260425T174558
CREATED:20250716T191439Z
LAST-MODIFIED:20251111T151247Z
UID:10000040-1769799600-1769806800@ciu.edu
SUMMARY:House Throwdown
DESCRIPTION:🏆 House Throwdown\nThe Ultimate House ShowdownGet ready for the most anticipated event of the year — House Throwdown! All 7 Houses take the stage in 5–7 minute performances that celebrate their unique culture\, color\, and core virtue. From creativity to community\, each House competes for House points and the Throwdown trophy\, judged by a panel of faculty and staff. \nMeet the Houses of the Collective: \n\n\n💛 Aequitas – House of Equity (Co-ed\, Yellow) \n\n\n❤️ Veritas – House of Truth (Women\, Red) \n\n\n💙 Fidelitas – House of Fidelity (Women\, Blue) \n\n\n💜 Dignitas – House of Dignity (Women\, Purple) \n\n\n🤍 Virtus – House of Virtue (Men\, Grey) \n\n\n💚 Sapientia – House of Wisdom (Men\, Green) \n\n\n🧡 Justitia – House of Justice (Men\, Orange) \n\n\nJoin students\, families\, alumni\, and fans for a night full of House pride\, free snacks and drinks\, and exclusive House merch. Bring your voice\, your spirit\, and your colors — it’s time to throw down!
URL:https://ciu.edu/event/house-throwdown/
LOCATION:Hoke Auditorium
CATEGORIES:Campus Events,Student Events
ORGANIZER;CN="Student Life":MAILTO:studentlife@ciu.edu
END:VEVENT
END:VCALENDAR