BEGIN:VCALENDAR
VERSION:2.0
PRODID:-//Columbia International University - ECPv6.15.20//NONSGML v1.0//EN
CALSCALE:GREGORIAN
METHOD:PUBLISH
X-ORIGINAL-URL:https://ciu.edu
X-WR-CALDESC:Events for Columbia International University
REFRESH-INTERVAL;VALUE=DURATION:PT1H
X-Robots-Tag:noindex
X-PUBLISHED-TTL:PT1H
BEGIN:VTIMEZONE
TZID:America/New_York
BEGIN:DAYLIGHT
TZOFFSETFROM:-0500
TZOFFSETTO:-0400
TZNAME:EDT
DTSTART:20250309T070000
END:DAYLIGHT
BEGIN:STANDARD
TZOFFSETFROM:-0400
TZOFFSETTO:-0500
TZNAME:EST
DTSTART:20251102T060000
END:STANDARD
BEGIN:DAYLIGHT
TZOFFSETFROM:-0500
TZOFFSETTO:-0400
TZNAME:EDT
DTSTART:20260308T070000
END:DAYLIGHT
BEGIN:STANDARD
TZOFFSETFROM:-0400
TZOFFSETTO:-0500
TZNAME:EST
DTSTART:20261101T060000
END:STANDARD
BEGIN:DAYLIGHT
TZOFFSETFROM:-0500
TZOFFSETTO:-0400
TZNAME:EDT
DTSTART:20270314T070000
END:DAYLIGHT
BEGIN:STANDARD
TZOFFSETFROM:-0400
TZOFFSETTO:-0500
TZNAME:EST
DTSTART:20271107T060000
END:STANDARD
END:VTIMEZONE
BEGIN:VEVENT
DTSTART;VALUE=DATE:20260501
DTEND;VALUE=DATE:20260502
DTSTAMP:20260421T154028
CREATED:20250813T102529Z
LAST-MODIFIED:20251111T161704Z
UID:10000109-1777593600-1777679999@ciu.edu
SUMMARY:Full Spring Semester & Online Session 2: Semester Ends
DESCRIPTION:The semester concludes for all full-term and online session 2 courses. Students should ensure all assignments are submitted and grades are finalized.
URL:https://ciu.edu/event/semester-ends-full-term-online-session-2/
LOCATION:South Carolina
CATEGORIES:Academic
END:VEVENT
BEGIN:VEVENT
DTSTART;VALUE=DATE:20260502
DTEND;VALUE=DATE:20260503
DTSTAMP:20260421T154028
CREATED:20250813T102858Z
LAST-MODIFIED:20251111T161810Z
UID:10000110-1777680000-1777766399@ciu.edu
SUMMARY:Commencement Ceremonies
DESCRIPTION:Celebrate the achievements of our graduates at the Commencement Ceremonies. Families\, friends\, and the campus community come together to honor students’ accomplishments.
URL:https://ciu.edu/event/commencement-ceremonies/
LOCATION:South Carolina
CATEGORIES:Academic
ATTACH;FMTTYPE=image/jpeg:https://ciu.edu/wp-content/uploads/DSC01612.jpg
END:VEVENT
BEGIN:VEVENT
DTSTART;VALUE=DATE:20260504
DTEND;VALUE=DATE:20260505
DTSTAMP:20260421T154028
CREATED:20250813T103044Z
LAST-MODIFIED:20251111T161824Z
UID:10000111-1777852800-1777939199@ciu.edu
SUMMARY:Full Summer Semester & Online Session 1: Semester Begins
DESCRIPTION:Kick off the Full Term and Online Session 1 courses. Welcome back\, students\, for a new semester of learning\, growth\, and community engagement.
URL:https://ciu.edu/event/semester-begins-full-term-online-session-1/
LOCATION:South Carolina
CATEGORIES:Academic
END:VEVENT
BEGIN:VEVENT
DTSTART;VALUE=DATE:20260508
DTEND;VALUE=DATE:20260509
DTSTAMP:20260421T154028
CREATED:20250813T103521Z
LAST-MODIFIED:20251111T161923Z
UID:10000112-1778198400-1778284799@ciu.edu
SUMMARY:Online Session 1: Last Day to Add/Drop
DESCRIPTION:This is the final opportunity to add or drop courses for Online Session 1. Make sure your schedule is finalized before the deadline.
URL:https://ciu.edu/event/last-day-add-drop-online-session-1-2/
LOCATION:South Carolina
CATEGORIES:Academic
END:VEVENT
BEGIN:VEVENT
DTSTART;VALUE=DATE:20260511
DTEND;VALUE=DATE:20260512
DTSTAMP:20260421T154028
CREATED:20250813T103754Z
LAST-MODIFIED:20251111T161933Z
UID:10000114-1778457600-1778543999@ciu.edu
SUMMARY:Full Summer Semester: Last Day to Add/Drop
DESCRIPTION:This is the final day for students to add or drop courses for the full-term Summer Semester. Make any schedule adjustments before this deadline.
URL:https://ciu.edu/event/last-day-add-drop-summer-semester/
LOCATION:South Carolina
CATEGORIES:Academic
END:VEVENT
BEGIN:VEVENT
DTSTART;VALUE=DATE:20260511
DTEND;VALUE=DATE:20260512
DTSTAMP:20260421T154028
CREATED:20250813T103913Z
LAST-MODIFIED:20251111T161949Z
UID:10000115-1778457600-1778543999@ciu.edu
SUMMARY:Last Day to Apply for Summer Graduation Without Late Fee
DESCRIPTION:Submit your application for Summer Graduation by today to avoid any late fees. Ensure all requirements are met for timely processing.
URL:https://ciu.edu/event/last-day-apply-summer-graduation/
LOCATION:South Carolina
CATEGORIES:Academic
END:VEVENT
BEGIN:VEVENT
DTSTART;VALUE=DATE:20260515
DTEND;VALUE=DATE:20260516
DTSTAMP:20260421T154028
CREATED:20250813T104006Z
LAST-MODIFIED:20251111T161958Z
UID:10000116-1778803200-1778889599@ciu.edu
SUMMARY:Online Session 1: 50% Refund Ends
DESCRIPTION:The 50% refund period for Online Session 1 ends today. Make any necessary adjustments to your enrollment before this deadline.
URL:https://ciu.edu/event/50-percent-refund-online-session-1-2/
LOCATION:South Carolina
CATEGORIES:Academic
END:VEVENT
BEGIN:VEVENT
DTSTART;VALUE=DATE:20260517
DTEND;VALUE=DATE:20260518
DTSTAMP:20260421T154028
CREATED:20250817T171912Z
LAST-MODIFIED:20251111T162012Z
UID:10000219-1778976000-1779062399@ciu.edu
SUMMARY:Counseling Residency Week Begins
DESCRIPTION:
URL:https://ciu.edu/event/counseling-residency-week-begins/
LOCATION:South Carolina
CATEGORIES:Academic,Student Events
END:VEVENT
BEGIN:VEVENT
DTSTART;VALUE=DATE:20260518
DTEND;VALUE=DATE:20260519
DTSTAMP:20260421T154028
CREATED:20250813T104312Z
LAST-MODIFIED:20251111T162028Z
UID:10000117-1779062400-1779148799@ciu.edu
SUMMARY:Full Summer Semester: 50% Refund Ends
DESCRIPTION:The 50% refund period for Full Term courses ends today. Ensure any enrollment changes are completed before the deadline.
URL:https://ciu.edu/event/50-percent-refund-full-term-courses-2/
LOCATION:South Carolina
CATEGORIES:Academic
END:VEVENT
BEGIN:VEVENT
DTSTART;VALUE=DATE:20260525
DTEND;VALUE=DATE:20260526
DTSTAMP:20260421T154028
CREATED:20250813T104435Z
LAST-MODIFIED:20251111T162039Z
UID:10000118-1779667200-1779753599@ciu.edu
SUMMARY:CIU Closed for Memorial Day
DESCRIPTION:Columbia International University will be closed in observance of Memorial Day. Classes and offices will not be in session.
URL:https://ciu.edu/event/ciu-closed-memorial-day/
LOCATION:South Carolina
CATEGORIES:Academic
END:VEVENT
END:VCALENDAR