BEGIN:VCALENDAR
VERSION:2.0
PRODID:-//Columbia International University - ECPv6.15.20//NONSGML v1.0//EN
CALSCALE:GREGORIAN
METHOD:PUBLISH
X-WR-CALNAME:Columbia International University
X-ORIGINAL-URL:https://ciu.edu
X-WR-CALDESC:Events for Columbia International University
REFRESH-INTERVAL;VALUE=DURATION:PT1H
X-Robots-Tag:noindex
X-PUBLISHED-TTL:PT1H
BEGIN:VTIMEZONE
TZID:America/New_York
BEGIN:DAYLIGHT
TZOFFSETFROM:-0500
TZOFFSETTO:-0400
TZNAME:EDT
DTSTART:20250309T070000
END:DAYLIGHT
BEGIN:STANDARD
TZOFFSETFROM:-0400
TZOFFSETTO:-0500
TZNAME:EST
DTSTART:20251102T060000
END:STANDARD
BEGIN:DAYLIGHT
TZOFFSETFROM:-0500
TZOFFSETTO:-0400
TZNAME:EDT
DTSTART:20260308T070000
END:DAYLIGHT
BEGIN:STANDARD
TZOFFSETFROM:-0400
TZOFFSETTO:-0500
TZNAME:EST
DTSTART:20261101T060000
END:STANDARD
BEGIN:DAYLIGHT
TZOFFSETFROM:-0500
TZOFFSETTO:-0400
TZNAME:EDT
DTSTART:20270314T070000
END:DAYLIGHT
BEGIN:STANDARD
TZOFFSETFROM:-0400
TZOFFSETTO:-0500
TZNAME:EST
DTSTART:20271107T060000
END:STANDARD
END:VTIMEZONE
BEGIN:VEVENT
DTSTART;VALUE=DATE:20260306
DTEND;VALUE=DATE:20260307
DTSTAMP:20260421T152038
CREATED:20250813T094229Z
LAST-MODIFIED:20251111T160136Z
UID:10000097-1772755200-1772841599@ciu.edu
SUMMARY:Online Session 1 Ends
DESCRIPTION:The first online session concludes. Students should ensure all assignments are submitted and grades are up to date.
URL:https://ciu.edu/event/online-session-1-ends/
LOCATION:South Carolina
CATEGORIES:Academic
END:VEVENT
BEGIN:VEVENT
DTSTART;VALUE=DATE:20260306
DTEND;VALUE=DATE:20260307
DTSTAMP:20260421T152038
CREATED:20250813T094433Z
LAST-MODIFIED:20251111T160221Z
UID:10000099-1772755200-1772841599@ciu.edu
SUMMARY:Last Day to Apply for Spring Graduation
DESCRIPTION:This is the final day to submit your application for Spring Graduation. Make sure all requirements are met before applying.
URL:https://ciu.edu/event/last-day-apply-spring-graduation-2/
LOCATION:South Carolina
CATEGORIES:Academic
END:VEVENT
BEGIN:VEVENT
DTSTART;VALUE=DATE:20260307
DTEND;VALUE=DATE:20260316
DTSTAMP:20260421T152038
CREATED:20250813T100108Z
LAST-MODIFIED:20260211T213057Z
UID:10000101-1772841600-1773619199@ciu.edu
SUMMARY:Spring Break for Full Spring Semester Students
DESCRIPTION:A week-long break for residential students to rest\, recharge\, and enjoy time off from classes. \nResidence Halls close Friday\, March 6 at 5pm and reopen on Sunday\, March 15 at 2pm.  The Dining Hall will be closed during this time.  Normal meal plans return Sunday\, March 15 at 5pm.
URL:https://ciu.edu/event/spring-break-residential-students/
LOCATION:South Carolina
CATEGORIES:Academic
END:VEVENT
BEGIN:VEVENT
DTSTART;VALUE=DATE:20260309
DTEND;VALUE=DATE:20260310
DTSTAMP:20260421T152038
CREATED:20250813T094539Z
LAST-MODIFIED:20251111T160301Z
UID:10000100-1773014400-1773100799@ciu.edu
SUMMARY:Online Session 2 Begins
DESCRIPTION:The second online session of the semester starts today. Be prepared for new courses\, assignments\, and online activities.
URL:https://ciu.edu/event/online-session-2-begins/
LOCATION:South Carolina
CATEGORIES:Academic
END:VEVENT
BEGIN:VEVENT
DTSTART;VALUE=DATE:20260313
DTEND;VALUE=DATE:20260314
DTSTAMP:20260421T152038
CREATED:20250813T101109Z
LAST-MODIFIED:20251111T160338Z
UID:10000103-1773360000-1773446399@ciu.edu
SUMMARY:Online Session 2: Last Day to Add/Drop Classes
DESCRIPTION:This is the final day to make changes to your Online Session 2 class schedule.
URL:https://ciu.edu/event/last-day-add-drop-online-session-2/
LOCATION:South Carolina
CATEGORIES:Academic
END:VEVENT
BEGIN:VEVENT
DTSTART;VALUE=DATE:20260318
DTEND;VALUE=DATE:20260319
DTSTAMP:20260421T152038
CREATED:20250813T101334Z
LAST-MODIFIED:20251111T160413Z
UID:10000104-1773792000-1773878399@ciu.edu
SUMMARY:Fall Registration Opens for Academic Year 2026-2027
DESCRIPTION:Students can begin registering for courses for the 2026–2027 academic year.
URL:https://ciu.edu/event/fall-registration-2026-2027/
LOCATION:South Carolina
CATEGORIES:Academic
ORGANIZER;CN="Registrar":MAILTO:registrar@ciu.edu.
END:VEVENT
BEGIN:VEVENT
DTSTART;VALUE=DATE:20260320
DTEND;VALUE=DATE:20260321
DTSTAMP:20260421T152038
CREATED:20250813T101504Z
LAST-MODIFIED:20251111T160427Z
UID:10000105-1773964800-1774051199@ciu.edu
SUMMARY:Online Session 2: 50% Refund Period Ends
DESCRIPTION:The deadline to receive a 50% refund for Online Session 2 courses.
URL:https://ciu.edu/event/online-session-2-50-percent-refund-deadline/
LOCATION:South Carolina
CATEGORIES:Academic
END:VEVENT
END:VCALENDAR