BEGIN:VCALENDAR
VERSION:2.0
PRODID:-//Columbia International University - ECPv6.15.20//NONSGML v1.0//EN
CALSCALE:GREGORIAN
METHOD:PUBLISH
X-ORIGINAL-URL:https://ciu.edu
X-WR-CALDESC:Events for Columbia International University
REFRESH-INTERVAL;VALUE=DURATION:PT1H
X-Robots-Tag:noindex
X-PUBLISHED-TTL:PT1H
BEGIN:VTIMEZONE
TZID:America/New_York
BEGIN:DAYLIGHT
TZOFFSETFROM:-0500
TZOFFSETTO:-0400
TZNAME:EDT
DTSTART:20250309T070000
END:DAYLIGHT
BEGIN:STANDARD
TZOFFSETFROM:-0400
TZOFFSETTO:-0500
TZNAME:EST
DTSTART:20251102T060000
END:STANDARD
BEGIN:DAYLIGHT
TZOFFSETFROM:-0500
TZOFFSETTO:-0400
TZNAME:EDT
DTSTART:20260308T070000
END:DAYLIGHT
BEGIN:STANDARD
TZOFFSETFROM:-0400
TZOFFSETTO:-0500
TZNAME:EST
DTSTART:20261101T060000
END:STANDARD
BEGIN:DAYLIGHT
TZOFFSETFROM:-0500
TZOFFSETTO:-0400
TZNAME:EDT
DTSTART:20270314T070000
END:DAYLIGHT
BEGIN:STANDARD
TZOFFSETFROM:-0400
TZOFFSETTO:-0500
TZNAME:EST
DTSTART:20271107T060000
END:STANDARD
END:VTIMEZONE
BEGIN:VEVENT
DTSTART;TZID=America/New_York:20260331T110000
DTEND;TZID=America/New_York:20260331T114500
DTSTAMP:20260422T094156
CREATED:20260108T212315Z
LAST-MODIFIED:20260312T150802Z
UID:10000759-1774954800-1774957500@ciu.edu
SUMMARY:Chapel: Dr. David Croteau
DESCRIPTION:Speaker is CIU Professor of New Testament and Dean of the Seminary & School of Counseling\, Dr. David Croteau. \n🙏 Chapel is at the heart of our community and shared discipleship experience while studying at CIU. It is an integral part of our learning and equipping to impact the nations with the message of Christ. Chapel is held every Tuesday\, Wednesday\, and Thursday from 11:00-11:45 a.m. Tuesday and Thursday chapels are designed for the entire university to gather in evangelical unity as a diverse and multicultural community. Wednesday chapels are typically designed for segments of the community to meet in separate venues\, Community Groups\, with advisors\, or other assigned options. \n2025-2026 theme is RENEWAL – “Do not conform to the pattern of this world\, but be transformed by the renewing of your mind. Then you will be able to test and approve what God’s will is-his good\, pleasing\, and perfect will.” Romans 12:2 \nQuestions about chapel can be emailed to studentlife@ciu.edu.
URL:https://ciu.edu/event/chapel-dr-david-croteau/
LOCATION:Shortess Chapel
CATEGORIES:Chapel
ORGANIZER;CN="Student Life":MAILTO:studentlife@ciu.edu
END:VEVENT
BEGIN:VEVENT
DTSTART;TZID=America/New_York:20260331T120000
DTEND;TZID=America/New_York:20260331T130000
DTSTAMP:20260422T094156
CREATED:20260316T122358Z
LAST-MODIFIED:20260316T122358Z
UID:10000870-1774958400-1774962000@ciu.edu
SUMMARY:SNA Meeting
DESCRIPTION:Our Student Nurses Association will be having their regularly scheduled meeting on March 31st in the Jones Center. This is a time for our nursing students to connect and fellowship.
URL:https://ciu.edu/event/sna-meeting/
LOCATION:William H. Jones Center
ORGANIZER;CN="Student Life":MAILTO:studentlife@ciu.edu
END:VEVENT
BEGIN:VEVENT
DTSTART;TZID=America/New_York:20260331T190000
DTEND;TZID=America/New_York:20260331T210000
DTSTAMP:20260422T094156
CREATED:20260205T144006Z
LAST-MODIFIED:20260312T150059Z
UID:10000824-1774983600-1774990800@ciu.edu
SUMMARY:Book Eyed Peas - "The Great Divorce"
DESCRIPTION:Join Book Eyed Peas as they kick off their next book club selection\, The Great Divorce. At this first meeting\, participants will receive their copies of the book and learn more about the biweekly discussion schedule. \n📅 Date: March 31⏰ Time: 7:00 PM📍 Location: The Hub (Library\, 2nd Floor)📖 Book: The Great Divorce🗓️ Meetings: Every other Tuesday following kickoff🙌 Open to: All Students
URL:https://ciu.edu/event/book-eyed-peas-the-great-divorce/2026-03-31/
LOCATION:G. Allen Fleece Library\, 7435 Monticello Rd\, Columbia\, SC\, 29203
CATEGORIES:Student Events
ORGANIZER;CN="Student Life":MAILTO:studentlife@ciu.edu
END:VEVENT
END:VCALENDAR