BEGIN:VCALENDAR
VERSION:2.0
PRODID:-//Columbia International University - ECPv6.15.20//NONSGML v1.0//EN
CALSCALE:GREGORIAN
METHOD:PUBLISH
X-WR-CALNAME:Columbia International University
X-ORIGINAL-URL:https://ciu.edu
X-WR-CALDESC:Events for Columbia International University
REFRESH-INTERVAL;VALUE=DURATION:PT1H
X-Robots-Tag:noindex
X-PUBLISHED-TTL:PT1H
BEGIN:VTIMEZONE
TZID:America/New_York
BEGIN:DAYLIGHT
TZOFFSETFROM:-0500
TZOFFSETTO:-0400
TZNAME:EDT
DTSTART:20240310T070000
END:DAYLIGHT
BEGIN:STANDARD
TZOFFSETFROM:-0400
TZOFFSETTO:-0500
TZNAME:EST
DTSTART:20241103T060000
END:STANDARD
BEGIN:DAYLIGHT
TZOFFSETFROM:-0500
TZOFFSETTO:-0400
TZNAME:EDT
DTSTART:20250309T070000
END:DAYLIGHT
BEGIN:STANDARD
TZOFFSETFROM:-0400
TZOFFSETTO:-0500
TZNAME:EST
DTSTART:20251102T060000
END:STANDARD
BEGIN:DAYLIGHT
TZOFFSETFROM:-0500
TZOFFSETTO:-0400
TZNAME:EDT
DTSTART:20260308T070000
END:DAYLIGHT
BEGIN:STANDARD
TZOFFSETFROM:-0400
TZOFFSETTO:-0500
TZNAME:EST
DTSTART:20261101T060000
END:STANDARD
END:VTIMEZONE
BEGIN:VEVENT
DTSTART;TZID=America/New_York:20251206T183000
DTEND;TZID=America/New_York:20251206T203000
DTSTAMP:20260425T065326
CREATED:20251111T195343Z
LAST-MODIFIED:20251111T195343Z
UID:10000697-1765045800-1765053000@ciu.edu
SUMMARY:Gingerbread House Making Contest
DESCRIPTION:🏠 Gingerbread House Making Contest – Hosted by Adventure ClubGet into the holiday spirit with a fun and festive gingerbread house competition! Bring your creativity and holiday cheer—materials will be provided. \n📅 Date: December 6th⏰ Time: 6:30 PM📍 Location: Founders Lobby🎄 Hosted by: Adventure Club🙌 Open to: All Students
URL:https://ciu.edu/event/gingerbread-house-making-contest/
LOCATION:Founders Lobby
ORGANIZER;CN="Student Life":MAILTO:studentlife@ciu.edu
END:VEVENT
BEGIN:VEVENT
DTSTART;TZID=America/New_York:20251206T190000
DTEND;TZID=America/New_York:20251206T210000
DTSTAMP:20260425T065326
CREATED:20251201T193635Z
LAST-MODIFIED:20251201T193635Z
UID:10000703-1765047600-1765054800@ciu.edu
SUMMARY:MuKappa Christmas Party
DESCRIPTION:🎄 MuKappa Christmas PartyJoin MuKappa for a cozy and festive Christmas celebration! Enjoy hot chocolate\, Christmas cookies\, a Nativity reading\, and a fun white elephant gift exchange. Come soak in the holiday cheer with friends! \nEvent Details:🎅 Host: MuKappa📅 Date: December 6th⏰ Time: 7:00 PM
URL:https://ciu.edu/event/mukappa-christmas-party/
LOCATION:The Pointe\, 7435 Monticello Rd\, Columbia\, SC\, 29203\, United States
ORGANIZER;CN="Student Life":MAILTO:studentlife@ciu.edu
END:VEVENT
END:VCALENDAR