BEGIN:VCALENDAR
VERSION:2.0
PRODID:-//Columbia International University - ECPv6.15.20//NONSGML v1.0//EN
CALSCALE:GREGORIAN
METHOD:PUBLISH
X-WR-CALNAME:Columbia International University
X-ORIGINAL-URL:https://ciu.edu
X-WR-CALDESC:Events for Columbia International University
REFRESH-INTERVAL;VALUE=DURATION:PT1H
X-Robots-Tag:noindex
X-PUBLISHED-TTL:PT1H
BEGIN:VTIMEZONE
TZID:America/New_York
BEGIN:DAYLIGHT
TZOFFSETFROM:-0500
TZOFFSETTO:-0400
TZNAME:EDT
DTSTART:20240310T070000
END:DAYLIGHT
BEGIN:STANDARD
TZOFFSETFROM:-0400
TZOFFSETTO:-0500
TZNAME:EST
DTSTART:20241103T060000
END:STANDARD
BEGIN:DAYLIGHT
TZOFFSETFROM:-0500
TZOFFSETTO:-0400
TZNAME:EDT
DTSTART:20250309T070000
END:DAYLIGHT
BEGIN:STANDARD
TZOFFSETFROM:-0400
TZOFFSETTO:-0500
TZNAME:EST
DTSTART:20251102T060000
END:STANDARD
BEGIN:DAYLIGHT
TZOFFSETFROM:-0500
TZOFFSETTO:-0400
TZNAME:EDT
DTSTART:20260308T070000
END:DAYLIGHT
BEGIN:STANDARD
TZOFFSETFROM:-0400
TZOFFSETTO:-0500
TZNAME:EST
DTSTART:20261101T060000
END:STANDARD
END:VTIMEZONE
BEGIN:VEVENT
DTSTART;VALUE=DATE:20251113
DTEND;VALUE=DATE:20251114
DTSTAMP:20260422T164719
CREATED:20250716T175408Z
LAST-MODIFIED:20250906T150118Z
UID:9167-1762992000-1763078399@ciu.edu
SUMMARY:Spirit Week: Dress Like a Professor Day
DESCRIPTION:🎉 Spirit Week\nHomecoming Hype Starts HereShow your school pride all week long with themed dress-up days leading up to Homecoming! Whether you go all out or keep it low-key\, each outfit earns your House spirit points — so rep your look and bring the energy. \n👩‍🏫 Thursday – Dress Like a Professor Day\nChannel your inner academic with cardigans\, beards\, glasses\, or that one mug you must carry everywhere. Bonus points if your professor sees it and approves. \nReminder: Students must still meet the Student Attire policy outlined in the Student Handbook.
URL:https://ciu.edu/event/spirit-week-dress-like-a-professor-day/
LOCATION:All Campus
CATEGORIES:Student Events
ORGANIZER;CN="Student Life":MAILTO:studentlife@ciu.edu
END:VEVENT
END:VCALENDAR