BEGIN:VCALENDAR
VERSION:2.0
PRODID:-//Columbia International University - ECPv6.15.20//NONSGML v1.0//EN
CALSCALE:GREGORIAN
METHOD:PUBLISH
X-WR-CALNAME:Columbia International University
X-ORIGINAL-URL:https://ciu.edu
X-WR-CALDESC:Events for Columbia International University
REFRESH-INTERVAL;VALUE=DURATION:PT1H
X-Robots-Tag:noindex
X-PUBLISHED-TTL:PT1H
BEGIN:VTIMEZONE
TZID:America/New_York
BEGIN:DAYLIGHT
TZOFFSETFROM:-0500
TZOFFSETTO:-0400
TZNAME:EDT
DTSTART:20250309T070000
END:DAYLIGHT
BEGIN:STANDARD
TZOFFSETFROM:-0400
TZOFFSETTO:-0500
TZNAME:EST
DTSTART:20251102T060000
END:STANDARD
BEGIN:DAYLIGHT
TZOFFSETFROM:-0500
TZOFFSETTO:-0400
TZNAME:EDT
DTSTART:20260308T070000
END:DAYLIGHT
BEGIN:STANDARD
TZOFFSETFROM:-0400
TZOFFSETTO:-0500
TZNAME:EST
DTSTART:20261101T060000
END:STANDARD
BEGIN:DAYLIGHT
TZOFFSETFROM:-0500
TZOFFSETTO:-0400
TZNAME:EDT
DTSTART:20270314T070000
END:DAYLIGHT
BEGIN:STANDARD
TZOFFSETFROM:-0400
TZOFFSETTO:-0500
TZNAME:EST
DTSTART:20271107T060000
END:STANDARD
END:VTIMEZONE
BEGIN:VEVENT
DTSTART;TZID=America/New_York:20260220T120000
DTEND;TZID=America/New_York:20260220T130000
DTSTAMP:20260421T074637
CREATED:20250817T170918Z
LAST-MODIFIED:20251111T153436Z
UID:10115-1771588800-1771592400@ciu.edu
SUMMARY:Graduate School Info Lunch
DESCRIPTION:Join us for a free Moe’s lunch and discover how Columbia International University can help you advance your calling and career through graduate studies. During this brief on-campus event\, you’ll have the opportunity to: \n\n\nConnect with current students\, faculty\, and admissions counselors \n\n\nLearn about CIU’s on-campus and fully online graduate programs \n\n\nSpeak directly with Admissions and Financial Aid representatives \n\n\nWhether you’re pursuing a master’s degree or doctoral program\, this session will help you take the next step toward your future in leadership\, ministry\, counseling\, education\, and more. \n👉 Register Now🔹 Explore Master’s Programs🔹 Explore Doctoral Programs
URL:https://ciu.edu/event/graduate-school-info-lunch/
LOCATION:William H. Jones Center
CATEGORIES:Admissions
ORGANIZER;CN="Admissions":MAILTO:admissions@ciu.edu
END:VEVENT
END:VCALENDAR