BEGIN:VCALENDAR
VERSION:2.0
PRODID:-//Columbia International University - ECPv6.15.20//NONSGML v1.0//EN
CALSCALE:GREGORIAN
METHOD:PUBLISH
X-WR-CALNAME:Columbia International University
X-ORIGINAL-URL:https://ciu.edu
X-WR-CALDESC:Events for Columbia International University
REFRESH-INTERVAL;VALUE=DURATION:PT1H
X-Robots-Tag:noindex
X-PUBLISHED-TTL:PT1H
BEGIN:VTIMEZONE
TZID:America/New_York
BEGIN:DAYLIGHT
TZOFFSETFROM:-0500
TZOFFSETTO:-0400
TZNAME:EDT
DTSTART:20240310T070000
END:DAYLIGHT
BEGIN:STANDARD
TZOFFSETFROM:-0400
TZOFFSETTO:-0500
TZNAME:EST
DTSTART:20241103T060000
END:STANDARD
BEGIN:DAYLIGHT
TZOFFSETFROM:-0500
TZOFFSETTO:-0400
TZNAME:EDT
DTSTART:20250309T070000
END:DAYLIGHT
BEGIN:STANDARD
TZOFFSETFROM:-0400
TZOFFSETTO:-0500
TZNAME:EST
DTSTART:20251102T060000
END:STANDARD
BEGIN:DAYLIGHT
TZOFFSETFROM:-0500
TZOFFSETTO:-0400
TZNAME:EDT
DTSTART:20260308T070000
END:DAYLIGHT
BEGIN:STANDARD
TZOFFSETFROM:-0400
TZOFFSETTO:-0500
TZNAME:EST
DTSTART:20261101T060000
END:STANDARD
END:VTIMEZONE
BEGIN:VEVENT
DTSTART;TZID=America/New_York:20251016T110000
DTEND;TZID=America/New_York:20251016T120000
DTSTAMP:20260422T114815
CREATED:20250911T182738Z
LAST-MODIFIED:20250911T182738Z
UID:10598-1760612400-1760616000@ciu.edu
SUMMARY:Grad Life Chapel
DESCRIPTION:🙏 Graduate Chapel – Hosted by the Grad Life CouncilA dedicated time of worship\, prayer\, and reflection with our graduate student community. All graduate students are warmly invited to attend. \n📅 Date: October 16th⏰ Time: 11:00 AM📍 Location: Lyn Cook Seminar Room\, William H. Jones Center🎓 Hosted by: Grad Life Council🙌 Open to: All Graduate Students
URL:https://ciu.edu/event/grad-life-chapel/
LOCATION:William H. Jones Center
CATEGORIES:Student Events
ORGANIZER;CN="Student Life":MAILTO:studentlife@ciu.edu
END:VEVENT
END:VCALENDAR