BEGIN:VCALENDAR
VERSION:2.0
PRODID:-//Columbia International University - ECPv6.15.20//NONSGML v1.0//EN
CALSCALE:GREGORIAN
METHOD:PUBLISH
X-WR-CALNAME:Columbia International University
X-ORIGINAL-URL:https://ciu.edu
X-WR-CALDESC:Events for Columbia International University
REFRESH-INTERVAL;VALUE=DURATION:PT1H
X-Robots-Tag:noindex
X-PUBLISHED-TTL:PT1H
BEGIN:VTIMEZONE
TZID:America/New_York
BEGIN:DAYLIGHT
TZOFFSETFROM:-0500
TZOFFSETTO:-0400
TZNAME:EDT
DTSTART:20240310T070000
END:DAYLIGHT
BEGIN:STANDARD
TZOFFSETFROM:-0400
TZOFFSETTO:-0500
TZNAME:EST
DTSTART:20241103T060000
END:STANDARD
BEGIN:DAYLIGHT
TZOFFSETFROM:-0500
TZOFFSETTO:-0400
TZNAME:EDT
DTSTART:20250309T070000
END:DAYLIGHT
BEGIN:STANDARD
TZOFFSETFROM:-0400
TZOFFSETTO:-0500
TZNAME:EST
DTSTART:20251102T060000
END:STANDARD
BEGIN:DAYLIGHT
TZOFFSETFROM:-0500
TZOFFSETTO:-0400
TZNAME:EDT
DTSTART:20260308T070000
END:DAYLIGHT
BEGIN:STANDARD
TZOFFSETFROM:-0400
TZOFFSETTO:-0500
TZNAME:EST
DTSTART:20261101T060000
END:STANDARD
END:VTIMEZONE
BEGIN:VEVENT
DTSTART;TZID=America/New_York:20250906T100000
DTEND;TZID=America/New_York:20250906T120000
DTSTAMP:20260421T213630
CREATED:20250905T224341Z
LAST-MODIFIED:20250905T224341Z
UID:10447-1757152800-1757160000@ciu.edu
SUMMARY:Entrepreneurship 101: Starting Up
DESCRIPTION:CIU students are invited to kick off Entrepreneurship 101 with our Starting Up session. This workshop is the perfect place to begin shaping your business ideas and learning the fundamentals of entrepreneurship. \nParticipants will: \n\nExplore how to design and structure a business concept\nGain tools for creativity\, planning\, and execution\nConnect with like-minded students interested in innovation\nLearn about opportunities to compete for prizes throughout the program\n\n📍 Location: William H. Jones Center\, Room 141 \n📧 Questions? Contact BCDC bcdc@ciu.edu 
URL:https://ciu.edu/event/entrepreneurship-101-starting-up/
LOCATION:William H. Jones Center
CATEGORIES:Student Events
ORGANIZER;CN="Business & Career Development Center":MAILTO:bcdc@ciu.edu
END:VEVENT
END:VCALENDAR