BEGIN:VCALENDAR
VERSION:2.0
PRODID:-//Columbia International University - ECPv6.15.20//NONSGML v1.0//EN
CALSCALE:GREGORIAN
METHOD:PUBLISH
X-WR-CALNAME:Columbia International University
X-ORIGINAL-URL:https://ciu.edu
X-WR-CALDESC:Events for Columbia International University
REFRESH-INTERVAL;VALUE=DURATION:PT1H
X-Robots-Tag:noindex
X-PUBLISHED-TTL:PT1H
BEGIN:VTIMEZONE
TZID:America/New_York
BEGIN:DAYLIGHT
TZOFFSETFROM:-0500
TZOFFSETTO:-0400
TZNAME:EDT
DTSTART:20250309T070000
END:DAYLIGHT
BEGIN:STANDARD
TZOFFSETFROM:-0400
TZOFFSETTO:-0500
TZNAME:EST
DTSTART:20251102T060000
END:STANDARD
BEGIN:DAYLIGHT
TZOFFSETFROM:-0500
TZOFFSETTO:-0400
TZNAME:EDT
DTSTART:20260308T070000
END:DAYLIGHT
BEGIN:STANDARD
TZOFFSETFROM:-0400
TZOFFSETTO:-0500
TZNAME:EST
DTSTART:20261101T060000
END:STANDARD
BEGIN:DAYLIGHT
TZOFFSETFROM:-0500
TZOFFSETTO:-0400
TZNAME:EDT
DTSTART:20270314T070000
END:DAYLIGHT
BEGIN:STANDARD
TZOFFSETFROM:-0400
TZOFFSETTO:-0500
TZNAME:EST
DTSTART:20271107T060000
END:STANDARD
END:VTIMEZONE
BEGIN:VEVENT
DTSTART;TZID=America/New_York:20260220T190000
DTEND;TZID=America/New_York:20260220T210000
DTSTAMP:20260422T114929
CREATED:20260206T135935Z
LAST-MODIFIED:20260206T135935Z
UID:10000830-1771614000-1771621200@ciu.edu
SUMMARY:Blood on the Clocktower
DESCRIPTION:Step into a night of strategy\, mystery\, and fun at LVL99’s Game Night featuring Blood on the Clocktower. This social deduction game night kicks off with the first session and will continue every other Friday for those who want to keep playing. \n📅 Date: February 6⏰ Time: 7:00 PM📍 Location: The Hub (Library\, 2nd Floor)🗓️ Frequency: Every other Friday following kickoff🎮 Hosted by: LVL99🙌 Open to: All Students
URL:https://ciu.edu/event/blood-on-the-clocktower/2026-02-20/
LOCATION:G. Allen Fleece Library\, 7435 Monticello Rd\, Columbia\, SC\, 29203
ORGANIZER;CN="Student Life":MAILTO:studentlife@ciu.edu
END:VEVENT
END:VCALENDAR